BEGIN:VCALENDAR
VERSION:2.0
PRODID:-//SheepCo Entertainment — Концерты  в США и Канаде - ECPv6.15.20//NONSGML v1.0//EN
CALSCALE:GREGORIAN
METHOD:PUBLISH
X-WR-CALNAME:SheepCo Entertainment — Концерты  в США и Канаде
X-ORIGINAL-URL:https://sheepco.events
X-WR-CALDESC:Мероприятия для SheepCo Entertainment — Концерты  в США и Канаде
REFRESH-INTERVAL;VALUE=DURATION:PT1H
X-Robots-Tag:noindex
X-PUBLISHED-TTL:PT1H
BEGIN:VTIMEZONE
TZID:America/Vancouver
BEGIN:DAYLIGHT
TZOFFSETFROM:-0800
TZOFFSETTO:-0700
TZNAME:PDT
DTSTART:20220313T100000
END:DAYLIGHT
BEGIN:STANDARD
TZOFFSETFROM:-0700
TZOFFSETTO:-0800
TZNAME:PST
DTSTART:20221106T090000
END:STANDARD
BEGIN:DAYLIGHT
TZOFFSETFROM:-0800
TZOFFSETTO:-0700
TZNAME:PDT
DTSTART:20230312T100000
END:DAYLIGHT
BEGIN:STANDARD
TZOFFSETFROM:-0700
TZOFFSETTO:-0800
TZNAME:PST
DTSTART:20231105T090000
END:STANDARD
BEGIN:DAYLIGHT
TZOFFSETFROM:-0800
TZOFFSETTO:-0700
TZNAME:PDT
DTSTART:20240310T100000
END:DAYLIGHT
BEGIN:STANDARD
TZOFFSETFROM:-0700
TZOFFSETTO:-0800
TZNAME:PST
DTSTART:20241103T090000
END:STANDARD
BEGIN:DAYLIGHT
TZOFFSETFROM:-0800
TZOFFSETTO:-0700
TZNAME:PDT
DTSTART:20250309T100000
END:DAYLIGHT
BEGIN:STANDARD
TZOFFSETFROM:-0700
TZOFFSETTO:-0800
TZNAME:PST
DTSTART:20251102T090000
END:STANDARD
BEGIN:DAYLIGHT
TZOFFSETFROM:-0800
TZOFFSETTO:-0700
TZNAME:PDT
DTSTART:20260308T100000
END:DAYLIGHT
BEGIN:STANDARD
TZOFFSETFROM:-0700
TZOFFSETTO:-0800
TZNAME:PST
DTSTART:20261101T090000
END:STANDARD
BEGIN:DAYLIGHT
TZOFFSETFROM:-0800
TZOFFSETTO:-0700
TZNAME:PDT
DTSTART:20270314T100000
END:DAYLIGHT
BEGIN:STANDARD
TZOFFSETFROM:-0700
TZOFFSETTO:-0800
TZNAME:PST
DTSTART:20271107T090000
END:STANDARD
END:VTIMEZONE
BEGIN:VEVENT
DTSTART;VALUE=DATE:20260228
DTEND;VALUE=DATE:20260330
DTSTAMP:20260425T171536
CREATED:20241004T224729Z
LAST-MODIFIED:20260119T223945Z
UID:32938-1772236800-1774828799@sheepco.events
SUMMARY:Григорий Остер
DESCRIPTION:
URL:https://sheepco.events/event/oster/
CATEGORIES:Wayne,Бостон,Ванкувер,Калгари,Лос-Анджелес,Монреаль,Нью-Йорк,Оттава,Сан-Диего,Сан-Матео,Сиэтл,Торонто
ATTACH;FMTTYPE=image/jpeg:https://sheepco.events/wp-content/uploads/2026/01/3-Фото-Григорий-Остер-кепка-и-синяя-рубашка.jpg
END:VEVENT
BEGIN:VEVENT
DTSTART;VALUE=DATE:20260125
DTEND;VALUE=DATE:20260126
DTSTAMP:20260425T171536
CREATED:20241004T224729Z
LAST-MODIFIED:20251204T195552Z
UID:32805-1769299200-1769385599@sheepco.events
SUMMARY:Дмитрий Быков
DESCRIPTION:
URL:https://sheepco.events/event/bykov/
CATEGORIES:Ванкувер
ATTACH;FMTTYPE=image/jpeg:https://sheepco.events/wp-content/uploads/2020/04/Быков-1800-х-900.jpg
END:VEVENT
BEGIN:VEVENT
DTSTART;VALUE=DATE:20251121
DTEND;VALUE=DATE:20251127
DTSTAMP:20260425T171536
CREATED:20250302T234729Z
LAST-MODIFIED:20250415T010720Z
UID:32219-1763683200-1764201599@sheepco.events
SUMMARY:Сплин
DESCRIPTION:
URL:https://sheepco.events/event/splean/
CATEGORIES:Ванкувер,Монреаль,Торонто,Эдмонтон
ATTACH;FMTTYPE=image/jpeg:https://sheepco.events/wp-content/uploads/2024/01/405811948_819253476877583_1395538805677613364_n-—-крупный-размер.jpeg
END:VEVENT
BEGIN:VEVENT
DTSTART;VALUE=DATE:20250925
DTEND;VALUE=DATE:20251013
DTSTAMP:20260425T171536
CREATED:20250704T224729Z
LAST-MODIFIED:20260324T193528Z
UID:32303-1758758400-1760313599@sheepco.events
SUMMARY:Анна Виленская
DESCRIPTION:
URL:https://sheepco.events/event/vilenskaya-old2/
CATEGORIES:Wayne,Атланта,Ванкувер,Лос-Анджелес,Миннеаполис,Сан-Матео,Сиэтл,Чикаго
ATTACH;FMTTYPE=image/png:https://sheepco.events/wp-content/uploads/2025/01/DSC_7335.png
END:VEVENT
BEGIN:VEVENT
DTSTART;VALUE=DATE:20250616
DTEND;VALUE=DATE:20250620
DTSTAMP:20260425T171536
CREATED:20241004T224729Z
LAST-MODIFIED:20250114T204234Z
UID:31901-1750032000-1750377599@sheepco.events
SUMMARY:Данила Поперечный
DESCRIPTION:
URL:https://sheepco.events/event/poperechny/
CATEGORIES:Ванкувер,Торонто
ATTACH;FMTTYPE=image/png:https://sheepco.events/wp-content/uploads/2025/01/Poperechny_1080_1080_no_text.png
END:VEVENT
BEGIN:VEVENT
DTSTART;VALUE=DATE:20250524
DTEND;VALUE=DATE:20250528
DTSTAMP:20260425T171536
CREATED:20250318T224729Z
LAST-MODIFIED:20250320T023442Z
UID:32157-1748044800-1748390399@sheepco.events
SUMMARY:Сергей Орлов
DESCRIPTION:
URL:https://sheepco.events/event/orlov/
CATEGORIES:Ванкувер,Калгари,Торонто
ATTACH;FMTTYPE=image/jpeg:https://sheepco.events/wp-content/uploads/2025/03/sergey-orlov.jpg
END:VEVENT
BEGIN:VEVENT
DTSTART;VALUE=DATE:20250328
DTEND;VALUE=DATE:20250406
DTSTAMP:20260425T171536
CREATED:20241004T224729Z
LAST-MODIFIED:20250228T142959Z
UID:31992-1743120000-1743897599@sheepco.events
SUMMARY:Михаил Шац
DESCRIPTION:
URL:https://sheepco.events/event/mihail-shats/
CATEGORIES:Ванкувер,Калгари,Монреаль,Оттава,Торонто
ATTACH;FMTTYPE=image/jpeg:https://sheepco.events/wp-content/uploads/2025/02/M.Sh-21-копия1-scaled.jpg
END:VEVENT
BEGIN:VEVENT
DTSTART;VALUE=DATE:20241019
DTEND;VALUE=DATE:20241026
DTSTAMP:20260425T171536
CREATED:20240521T190900Z
LAST-MODIFIED:20240725T182303Z
UID:30630-1729296000-1729900799@sheepco.events
SUMMARY:Мумий Троль
DESCRIPTION:
URL:https://sheepco.events/event/mumiy-troll/
CATEGORIES:Ванкувер,Калгари,Монреаль,Оттава,Торонто
ATTACH;FMTTYPE=image/png:https://sheepco.events/wp-content/uploads/2024/05/post_e-.png
END:VEVENT
BEGIN:VEVENT
DTSTART;VALUE=DATE:20240924
DTEND;VALUE=DATE:20240926
DTSTAMP:20260425T171536
CREATED:20240522T222420Z
LAST-MODIFIED:20240725T182306Z
UID:30651-1727136000-1727308799@sheepco.events
SUMMARY:Александр Невзоров
DESCRIPTION:
URL:https://sheepco.events/event/nevzorov/
CATEGORIES:Ванкувер,Калгари
ATTACH;FMTTYPE=image/jpeg:https://sheepco.events/wp-content/uploads/2024/05/Nevzorov4-e1716395600611.jpeg
END:VEVENT
BEGIN:VEVENT
DTSTART;VALUE=DATE:20240914
DTEND;VALUE=DATE:20240918
DTSTAMP:20260425T171536
CREATED:20230802T194833Z
LAST-MODIFIED:20240725T182309Z
UID:28303-1726272000-1726617599@sheepco.events
SUMMARY:Семен Слепаков
DESCRIPTION:
URL:https://sheepco.events/event/slepakov/
CATEGORIES:Ванкувер,Калгари,Торонто
ATTACH;FMTTYPE=image/png:https://sheepco.events/wp-content/uploads/2023/08/calgary_ss.png
END:VEVENT
BEGIN:VEVENT
DTSTART;VALUE=DATE:20240613
DTEND;VALUE=DATE:20240617
DTSTAMP:20260425T171536
CREATED:20230926T184151Z
LAST-MODIFIED:20240725T182312Z
UID:30394-1718236800-1718582399@sheepco.events
SUMMARY:Юлий Ким
DESCRIPTION:
URL:https://sheepco.events/event/kim/
CATEGORIES:Ванкувер,Калгари
ATTACH;FMTTYPE=image/jpeg:https://sheepco.events/wp-content/uploads/2024/04/фото5-scaled.jpg
END:VEVENT
BEGIN:VEVENT
DTSTART;VALUE=DATE:20240522
DTEND;VALUE=DATE:20240529
DTSTAMP:20260425T171536
CREATED:20230926T184151Z
LAST-MODIFIED:20240725T182318Z
UID:30209-1716336000-1716940799@sheepco.events
SUMMARY:Александр Васильев
DESCRIPTION:
URL:https://sheepco.events/event/vasilyev/
CATEGORIES:Ванкувер,Калгари,Монреаль,Торонто
ATTACH;FMTTYPE=image/png:https://sheepco.events/wp-content/uploads/2024/03/12345.png
END:VEVENT
BEGIN:VEVENT
DTSTART;VALUE=DATE:20240416
DTEND;VALUE=DATE:20240422
DTSTAMP:20260425T171536
CREATED:20230926T184151Z
LAST-MODIFIED:20240725T182322Z
UID:29769-1713225600-1713743999@sheepco.events
SUMMARY:Леонид Парфёнов
DESCRIPTION:
URL:https://sheepco.events/event/parfenov/
CATEGORIES:Ванкувер,Калгари,Монреаль,Торонто
ATTACH;FMTTYPE=image/jpeg:https://sheepco.events/wp-content/uploads/2023/11/DSC09773-scaled-e1702914748263.jpg
END:VEVENT
BEGIN:VEVENT
DTSTART;VALUE=DATE:20240405
DTEND;VALUE=DATE:20240413
DTSTAMP:20260425T171536
CREATED:20230926T184151Z
LAST-MODIFIED:20240725T182325Z
UID:28550-1712275200-1712966399@sheepco.events
SUMMARY:Тамара Эйдельман
DESCRIPTION:
URL:https://sheepco.events/event/eidelman/
CATEGORIES:Ванкувер,Калгари,Монреаль,Оттава,Торонто
ATTACH;FMTTYPE=image/jpeg:https://sheepco.events/wp-content/uploads/2023/09/channels4_profile.jpg
END:VEVENT
BEGIN:VEVENT
DTSTART;VALUE=DATE:20240203
DTEND;VALUE=DATE:20240209
DTSTAMP:20260425T171536
CREATED:20230901T013708Z
LAST-MODIFIED:20240725T182328Z
UID:28450-1706918400-1707436799@sheepco.events
SUMMARY:Несчастный Случай
DESCRIPTION:
URL:https://sheepco.events/event/nsband/
CATEGORIES:Ванкувер,Калгари,Монреаль,Торонто
ATTACH;FMTTYPE=image/jpeg:https://sheepco.events/wp-content/uploads/2023/08/DD¡-19-1-scaled-e1693532161231.jpg
END:VEVENT
BEGIN:VEVENT
DTSTART;VALUE=DATE:20230927
DTEND;VALUE=DATE:20231002
DTSTAMP:20260425T171536
CREATED:20230515T154306Z
LAST-MODIFIED:20240725T182344Z
UID:26403-1695772800-1696204799@sheepco.events
SUMMARY:Дина Рубина
DESCRIPTION:
URL:https://sheepco.events/event/rubina/
CATEGORIES:Ванкувер,Калгари,Монреаль,Торонто
ATTACH;FMTTYPE=image/jpeg:https://sheepco.events/wp-content/uploads/2023/05/Дина-в-Польше-scaled.jpg
END:VEVENT
BEGIN:VEVENT
DTSTART;VALUE=DATE:20250101
DTEND;VALUE=DATE:20250102
DTSTAMP:20260425T171536
CREATED:20251203T212335Z
LAST-MODIFIED:20251204T195043Z
UID:1196-1735689600-1735775999@sheepco.events
SUMMARY:Дмитрий Быков
DESCRIPTION:
URL:https://sheepco.events/event/bykov-old/
CATEGORIES:Ванкувер
ATTACH;FMTTYPE=image/jpeg:https://sheepco.events/wp-content/uploads/2020/04/Быков-1800-х-900.jpg
END:VEVENT
BEGIN:VEVENT
DTSTART;VALUE=DATE:20230616
DTEND;VALUE=DATE:20230623
DTSTAMP:20260425T171536
CREATED:20230113T000329Z
LAST-MODIFIED:20240725T182350Z
UID:24789-1686873600-1687478399@sheepco.events
SUMMARY:Борис Гребенщиков и БГ+
DESCRIPTION:
URL:https://sheepco.events/event/bg/
CATEGORIES:Ванкувер,Калгари,Монреаль,Торонто
ATTACH;FMTTYPE=image/jpeg:https://sheepco.events/wp-content/uploads/2023/05/DSF1429-scaled.jpg
END:VEVENT
END:VCALENDAR