BEGIN:VCALENDAR
VERSION:2.0
PRODID:-//SheepCo Entertainment — Концерты  в США и Канаде - ECPv6.15.20//NONSGML v1.0//EN
CALSCALE:GREGORIAN
METHOD:PUBLISH
X-ORIGINAL-URL:https://sheepco.events
X-WR-CALDESC:Мероприятия для SheepCo Entertainment — Концерты  в США и Канаде
REFRESH-INTERVAL;VALUE=DURATION:PT1H
X-Robots-Tag:noindex
X-PUBLISHED-TTL:PT1H
BEGIN:VTIMEZONE
TZID:America/Vancouver
BEGIN:DAYLIGHT
TZOFFSETFROM:-0800
TZOFFSETTO:-0700
TZNAME:PDT
DTSTART:20250309T100000
END:DAYLIGHT
BEGIN:STANDARD
TZOFFSETFROM:-0700
TZOFFSETTO:-0800
TZNAME:PST
DTSTART:20251102T090000
END:STANDARD
BEGIN:DAYLIGHT
TZOFFSETFROM:-0800
TZOFFSETTO:-0700
TZNAME:PDT
DTSTART:20260308T100000
END:DAYLIGHT
BEGIN:STANDARD
TZOFFSETFROM:-0700
TZOFFSETTO:-0800
TZNAME:PST
DTSTART:20261101T090000
END:STANDARD
BEGIN:DAYLIGHT
TZOFFSETFROM:-0800
TZOFFSETTO:-0700
TZNAME:PDT
DTSTART:20270314T100000
END:DAYLIGHT
BEGIN:STANDARD
TZOFFSETFROM:-0700
TZOFFSETTO:-0800
TZNAME:PST
DTSTART:20271107T090000
END:STANDARD
END:VTIMEZONE
BEGIN:VEVENT
DTSTART;VALUE=DATE:20260220
DTEND;VALUE=DATE:20260504
DTSTAMP:20260425T090914
CREATED:20260101T234729Z
LAST-MODIFIED:20260423T151752Z
UID:32985-1771545600-1777852799@sheepco.events
SUMMARY:Михаил Зыгарь
DESCRIPTION:
URL:https://sheepco.events/event/zygar/
CATEGORIES:Ванкувер,Лос-Анджелес,Нью-Йорк,Сан-Матео,Сиэтл,Торонто
ATTACH;FMTTYPE=image/jpeg:https://sheepco.events/wp-content/uploads/2025/10/IMG_4701-scaled-e1759345965730.jpg
END:VEVENT
BEGIN:VEVENT
DTSTART;VALUE=DATE:20260228
DTEND;VALUE=DATE:20260330
DTSTAMP:20260425T090914
CREATED:20241004T224729Z
LAST-MODIFIED:20260119T223945Z
UID:32938-1772236800-1774828799@sheepco.events
SUMMARY:Григорий Остер
DESCRIPTION:
URL:https://sheepco.events/event/oster/
CATEGORIES:Wayne,Бостон,Ванкувер,Калгари,Лос-Анджелес,Монреаль,Нью-Йорк,Оттава,Сан-Диего,Сан-Матео,Сиэтл,Торонто
ATTACH;FMTTYPE=image/jpeg:https://sheepco.events/wp-content/uploads/2026/01/3-Фото-Григорий-Остер-кепка-и-синяя-рубашка.jpg
END:VEVENT
END:VCALENDAR