BEGIN:VCALENDAR
VERSION:2.0
PRODID:-//SheepCo Entertainment — Концерты  в США и Канаде - ECPv6.15.20//NONSGML v1.0//EN
CALSCALE:GREGORIAN
METHOD:PUBLISH
X-ORIGINAL-URL:https://sheepco.events
X-WR-CALDESC:Мероприятия для SheepCo Entertainment — Концерты  в США и Канаде
REFRESH-INTERVAL;VALUE=DURATION:PT1H
X-Robots-Tag:noindex
X-PUBLISHED-TTL:PT1H
BEGIN:VTIMEZONE
TZID:America/Vancouver
BEGIN:DAYLIGHT
TZOFFSETFROM:-0800
TZOFFSETTO:-0700
TZNAME:PDT
DTSTART:20250309T100000
END:DAYLIGHT
BEGIN:STANDARD
TZOFFSETFROM:-0700
TZOFFSETTO:-0800
TZNAME:PST
DTSTART:20251102T090000
END:STANDARD
BEGIN:DAYLIGHT
TZOFFSETFROM:-0800
TZOFFSETTO:-0700
TZNAME:PDT
DTSTART:20260308T100000
END:DAYLIGHT
BEGIN:STANDARD
TZOFFSETFROM:-0700
TZOFFSETTO:-0800
TZNAME:PST
DTSTART:20261101T090000
END:STANDARD
BEGIN:DAYLIGHT
TZOFFSETFROM:-0800
TZOFFSETTO:-0700
TZNAME:PDT
DTSTART:20270314T100000
END:DAYLIGHT
BEGIN:STANDARD
TZOFFSETFROM:-0700
TZOFFSETTO:-0800
TZNAME:PST
DTSTART:20271107T090000
END:STANDARD
END:VTIMEZONE
BEGIN:VEVENT
DTSTART;VALUE=DATE:20260411
DTEND;VALUE=DATE:20260501
DTSTAMP:20260425T062843
CREATED:20241004T224729Z
LAST-MODIFIED:20260422T120521Z
UID:32861-1775865600-1777593599@sheepco.events
SUMMARY:Катерина Гордеева
DESCRIPTION:
URL:https://sheepco.events/event/gordeeva/
CATEGORIES:Ванкувер,Вашингтон,Даллас,Лос-Анджелес,Майами,Нью-Йорк,Сан-Диего,Сан-Матео,Сан-Франциско,Сиэтл,Торонто,Филадельфия,Хьюстон,Эдмонтон
ATTACH;FMTTYPE=image/jpeg:https://sheepco.events/wp-content/uploads/2024/10/INP1691-scaled.jpg
END:VEVENT
BEGIN:VEVENT
DTSTART;VALUE=DATE:20260418
DTEND;VALUE=DATE:20260427
DTSTAMP:20260425T062843
CREATED:20241004T224729Z
LAST-MODIFIED:20260407T134746Z
UID:32758-1776470400-1777247999@sheepco.events
SUMMARY:Самое Большое Простое Число
DESCRIPTION:
URL:https://sheepco.events/event/sbp4/
CATEGORIES:Лос-Анджелес,Нью-Йорк,Сан-Франциско,Торонто
ATTACH;FMTTYPE=image/png:https://sheepco.events/wp-content/uploads/2025/12/A1011873-Large.png
END:VEVENT
BEGIN:VEVENT
DTSTART;VALUE=DATE:20260514
DTEND;VALUE=DATE:20260517
DTSTAMP:20260425T062843
CREATED:20260305T200402Z
LAST-MODIFIED:20260324T193534Z
UID:33150-1778716800-1778975999@sheepco.events
SUMMARY:Анна Виленская
DESCRIPTION:
URL:https://sheepco.events/event/vilenskaya/
CATEGORIES:Лос-Анджелес,Сан-Диего,Сан-Франциско
ATTACH;FMTTYPE=image/jpeg:https://sheepco.events/wp-content/uploads/2024/08/IMG_3128-scaled.jpg
END:VEVENT
BEGIN:VEVENT
DTSTART;VALUE=DATE:20260519
DTEND;VALUE=DATE:20260608
DTSTAMP:20260425T062843
CREATED:20241004T224729Z
LAST-MODIFIED:20260407T141730Z
UID:32314-1779148800-1780876799@sheepco.events
SUMMARY:Михаил Казиник
DESCRIPTION:
URL:https://sheepco.events/event/kazinik/
CATEGORIES:Ванкувер,Калгари,Лос-Анджелес,Пало-Альто,Сан-Диего,Сан-Франциско,Сиэтл
ATTACH;FMTTYPE=image/jpeg:https://sheepco.events/wp-content/uploads/2025/07/Image_Artist_LYEDbBE.jpeg
END:VEVENT
BEGIN:VEVENT
DTSTART;VALUE=DATE:20261105
DTEND;VALUE=DATE:20261121
DTSTAMP:20260425T062843
CREATED:20260305T200402Z
LAST-MODIFIED:20260424T160849Z
UID:33431-1793836800-1795219199@sheepco.events
SUMMARY:Группа "Кино"
DESCRIPTION:
URL:https://sheepco.events/event/kino/
CATEGORIES:Калгари,Лос-Анджелес,Майами,Нью-Йорк,Сан-Франциско,Сиэтл,Торонто
ATTACH;FMTTYPE=image/jpeg:https://sheepco.events/wp-content/uploads/2026/04/MMA_2389-Large.jpeg
END:VEVENT
END:VCALENDAR