BEGIN:VCALENDAR
VERSION:2.0
PRODID:-//SheepCo Entertainment — Концерты  в США и Канаде - ECPv6.15.20//NONSGML v1.0//EN
CALSCALE:GREGORIAN
METHOD:PUBLISH
X-WR-CALNAME:SheepCo Entertainment — Концерты  в США и Канаде
X-ORIGINAL-URL:https://sheepco.events
X-WR-CALDESC:Мероприятия для SheepCo Entertainment — Концерты  в США и Канаде
REFRESH-INTERVAL;VALUE=DURATION:PT1H
X-Robots-Tag:noindex
X-PUBLISHED-TTL:PT1H
BEGIN:VTIMEZONE
TZID:America/Vancouver
BEGIN:DAYLIGHT
TZOFFSETFROM:-0800
TZOFFSETTO:-0700
TZNAME:PDT
DTSTART:20230312T100000
END:DAYLIGHT
BEGIN:STANDARD
TZOFFSETFROM:-0700
TZOFFSETTO:-0800
TZNAME:PST
DTSTART:20231105T090000
END:STANDARD
BEGIN:DAYLIGHT
TZOFFSETFROM:-0800
TZOFFSETTO:-0700
TZNAME:PDT
DTSTART:20240310T100000
END:DAYLIGHT
BEGIN:STANDARD
TZOFFSETFROM:-0700
TZOFFSETTO:-0800
TZNAME:PST
DTSTART:20241103T090000
END:STANDARD
BEGIN:DAYLIGHT
TZOFFSETFROM:-0800
TZOFFSETTO:-0700
TZNAME:PDT
DTSTART:20250309T100000
END:DAYLIGHT
BEGIN:STANDARD
TZOFFSETFROM:-0700
TZOFFSETTO:-0800
TZNAME:PST
DTSTART:20251102T090000
END:STANDARD
BEGIN:DAYLIGHT
TZOFFSETFROM:-0800
TZOFFSETTO:-0700
TZNAME:PDT
DTSTART:20260308T100000
END:DAYLIGHT
BEGIN:STANDARD
TZOFFSETFROM:-0700
TZOFFSETTO:-0800
TZNAME:PST
DTSTART:20261101T090000
END:STANDARD
END:VTIMEZONE
BEGIN:VEVENT
DTSTART;VALUE=DATE:20251121
DTEND;VALUE=DATE:20251127
DTSTAMP:20260425T074430
CREATED:20250302T234729Z
LAST-MODIFIED:20250415T010720Z
UID:32219-1763683200-1764201599@sheepco.events
SUMMARY:Сплин
DESCRIPTION:
URL:https://sheepco.events/event/splean/
CATEGORIES:Ванкувер,Монреаль,Торонто,Эдмонтон
ATTACH;FMTTYPE=image/jpeg:https://sheepco.events/wp-content/uploads/2024/01/405811948_819253476877583_1395538805677613364_n-—-крупный-размер.jpeg
END:VEVENT
BEGIN:VEVENT
DTSTART;VALUE=DATE:20251021
DTEND;VALUE=DATE:20251031
DTSTAMP:20260425T074430
CREATED:20250302T234729Z
LAST-MODIFIED:20250415T010238Z
UID:32116-1761004800-1761868799@sheepco.events
SUMMARY:Машина Времени
DESCRIPTION:
URL:https://sheepco.events/event/mashinavremeni/
CATEGORIES:Монреаль,Торонто,Эдмонтон
ATTACH;FMTTYPE=image/jpeg:https://sheepco.events/wp-content/uploads/2023/05/334929921_1148544682494149_2402098844452454711_n.jpg
END:VEVENT
BEGIN:VEVENT
DTSTART;VALUE=DATE:20241119
DTEND;VALUE=DATE:20241120
DTSTAMP:20260425T074430
CREATED:20240503T224729Z
LAST-MODIFIED:20240725T182258Z
UID:30558-1731974400-1732060799@sheepco.events
SUMMARY:Максим Галкин
DESCRIPTION:
URL:https://sheepco.events/event/galkin/
CATEGORIES:Эдмонтон
ATTACH;FMTTYPE=image/jpeg:https://sheepco.events/wp-content/uploads/2024/04/IMG_2184-galkin.jpeg
END:VEVENT
END:VCALENDAR