BEGIN:VCALENDAR
VERSION:2.0
PRODID:-//SheepCo Entertainment — Концерты  в США и Канаде - ECPv6.15.20//NONSGML v1.0//EN
CALSCALE:GREGORIAN
METHOD:PUBLISH
X-ORIGINAL-URL:https://sheepco.events
X-WR-CALDESC:Мероприятия для SheepCo Entertainment — Концерты  в США и Канаде
REFRESH-INTERVAL;VALUE=DURATION:PT1H
X-Robots-Tag:noindex
X-PUBLISHED-TTL:PT1H
BEGIN:VTIMEZONE
TZID:America/Vancouver
BEGIN:DAYLIGHT
TZOFFSETFROM:-0800
TZOFFSETTO:-0700
TZNAME:PDT
DTSTART:20240310T100000
END:DAYLIGHT
BEGIN:STANDARD
TZOFFSETFROM:-0700
TZOFFSETTO:-0800
TZNAME:PST
DTSTART:20241103T090000
END:STANDARD
BEGIN:DAYLIGHT
TZOFFSETFROM:-0800
TZOFFSETTO:-0700
TZNAME:PDT
DTSTART:20250309T100000
END:DAYLIGHT
BEGIN:STANDARD
TZOFFSETFROM:-0700
TZOFFSETTO:-0800
TZNAME:PST
DTSTART:20251102T090000
END:STANDARD
BEGIN:DAYLIGHT
TZOFFSETFROM:-0800
TZOFFSETTO:-0700
TZNAME:PDT
DTSTART:20260308T100000
END:DAYLIGHT
BEGIN:STANDARD
TZOFFSETFROM:-0700
TZOFFSETTO:-0800
TZNAME:PST
DTSTART:20261101T090000
END:STANDARD
END:VTIMEZONE
BEGIN:VEVENT
DTSTART;VALUE=DATE:20250112
DTEND;VALUE=DATE:20250120
DTSTAMP:20260425T092930
CREATED:20240909T190900Z
LAST-MODIFIED:20240910T221444Z
UID:31451-1736640000-1737331199@sheepco.events
SUMMARY:Dominic Miller
DESCRIPTION:
URL:https://sheepco.events/event/miller/
CATEGORIES:Calgary,Campbell River,Comox Valley,Edmonton,Kelowna,Vancouver,Vernon,Victoria
ATTACH;FMTTYPE=image/jpeg:https://sheepco.events/wp-content/uploads/2024/09/Dominic-Miller-2022-4-www.christophbombart-photography.com_-scaled.jpeg
END:VEVENT
END:VCALENDAR