BEGIN:VCALENDAR
VERSION:2.0
PRODID:-//SheepCo Entertainment — Концерты  в США и Канаде - ECPv6.15.20//NONSGML v1.0//EN
CALSCALE:GREGORIAN
METHOD:PUBLISH
X-WR-CALNAME:SheepCo Entertainment — Концерты  в США и Канаде
X-ORIGINAL-URL:https://sheepco.events
X-WR-CALDESC:Мероприятия для SheepCo Entertainment — Концерты  в США и Канаде
REFRESH-INTERVAL;VALUE=DURATION:PT1H
X-Robots-Tag:noindex
X-PUBLISHED-TTL:PT1H
BEGIN:VTIMEZONE
TZID:America/Vancouver
BEGIN:DAYLIGHT
TZOFFSETFROM:-0800
TZOFFSETTO:-0700
TZNAME:PDT
DTSTART:20240310T100000
END:DAYLIGHT
BEGIN:STANDARD
TZOFFSETFROM:-0700
TZOFFSETTO:-0800
TZNAME:PST
DTSTART:20241103T090000
END:STANDARD
BEGIN:DAYLIGHT
TZOFFSETFROM:-0800
TZOFFSETTO:-0700
TZNAME:PDT
DTSTART:20250309T100000
END:DAYLIGHT
BEGIN:STANDARD
TZOFFSETFROM:-0700
TZOFFSETTO:-0800
TZNAME:PST
DTSTART:20251102T090000
END:STANDARD
BEGIN:DAYLIGHT
TZOFFSETFROM:-0800
TZOFFSETTO:-0700
TZNAME:PDT
DTSTART:20260308T100000
END:DAYLIGHT
BEGIN:STANDARD
TZOFFSETFROM:-0700
TZOFFSETTO:-0800
TZNAME:PST
DTSTART:20261101T090000
END:STANDARD
END:VTIMEZONE
BEGIN:VEVENT
DTSTART;VALUE=DATE:20250410
DTEND;VALUE=DATE:20250417
DTSTAMP:20260425T080745
CREATED:20241004T224729Z
LAST-MODIFIED:20250711T144042Z
UID:31036-1744243200-1744847999@sheepco.events
SUMMARY:Анна Виленская
DESCRIPTION:
URL:https://sheepco.events/event/vilenskaya-2-2/
CATEGORIES:Вашингтон,Майами,Нью-Йорк,Филадельфия,Хьюстон,Шарлотт
ATTACH;FMTTYPE=image/png:https://sheepco.events/wp-content/uploads/2025/01/DSC_7335.png
END:VEVENT
END:VCALENDAR